BEGIN:VCALENDAR
VERSION:2.0
PRODID:-//Cathedral of the Immaculate Conception - ECPv6.15.20//NONSGML v1.0//EN
CALSCALE:GREGORIAN
METHOD:PUBLISH
X-ORIGINAL-URL:https://spicathedral.org
X-WR-CALDESC:Events for Cathedral of the Immaculate Conception
REFRESH-INTERVAL;VALUE=DURATION:PT1H
X-Robots-Tag:noindex
X-PUBLISHED-TTL:PT1H
BEGIN:VTIMEZONE
TZID:America/Chicago
BEGIN:DAYLIGHT
TZOFFSETFROM:-0600
TZOFFSETTO:-0500
TZNAME:CDT
DTSTART:20200308T080000
END:DAYLIGHT
BEGIN:STANDARD
TZOFFSETFROM:-0500
TZOFFSETTO:-0600
TZNAME:CST
DTSTART:20201101T070000
END:STANDARD
BEGIN:DAYLIGHT
TZOFFSETFROM:-0600
TZOFFSETTO:-0500
TZNAME:CDT
DTSTART:20210314T080000
END:DAYLIGHT
BEGIN:STANDARD
TZOFFSETFROM:-0500
TZOFFSETTO:-0600
TZNAME:CST
DTSTART:20211107T070000
END:STANDARD
BEGIN:DAYLIGHT
TZOFFSETFROM:-0600
TZOFFSETTO:-0500
TZNAME:CDT
DTSTART:20220313T080000
END:DAYLIGHT
BEGIN:STANDARD
TZOFFSETFROM:-0500
TZOFFSETTO:-0600
TZNAME:CST
DTSTART:20221106T070000
END:STANDARD
END:VTIMEZONE
BEGIN:VEVENT
DTSTART;TZID=America/Chicago:20210811T180000
DTEND;TZID=America/Chicago:20210811T200000
DTSTAMP:20260419T080724
CREATED:20210616T045608Z
LAST-MODIFIED:20210620T141102Z
UID:11946-1628704800-1628712000@spicathedral.org
SUMMARY:Fishing With Father Alford
DESCRIPTION:Pack a picnic supper\, if you like\, and grab your pole and tackle. We will provide bait and ice cream! Fr. Alford will be on hand to provide expert fishing instruction and advice.
URL:https://spicathedral.org/event/fishing-with-father-alford/
LOCATION:Villa Maria\, Springfield\, IL
END:VEVENT
END:VCALENDAR